BEGIN:VCALENDAR
PRODID:-//eluceo/ical//2.0/EN
VERSION:2.0
CALSCALE:GREGORIAN
BEGIN:VEVENT
UID:4588932b9a40b1fbf6fc1f3b8506dac6
DTSTAMP:20260422T083533Z
SUMMARY:ESPOIR EN TETE : AVANT-PREMIERE DU FILM "SIMONE"
DESCRIPTION:Website: https://www.espoir-en-tete.org
URL:https://macon.rotary1750.org/en/agenda/show/26500
DTSTART;TZID=Europe/Zurich:20211125T200000
DTEND;TZID=Europe/Zurich:20211125T200000
LOCATION:Cinémarivaux 70 Rue Michel Debré\, 71000 Mâcon
CATEGORIES:Rotary
END:VEVENT
BEGIN:VTIMEZONE
TZID:Europe/Zurich
BEGIN:STANDARD
DTSTART:20211125T200000
TZNAME:CET
TZOFFSETTO:+0100
TZOFFSETFROM:+0100
END:STANDARD
END:VTIMEZONE
END:VCALENDAR
