BEGIN:VCALENDAR
PRODID:-//eluceo/ical//2.0/EN
VERSION:2.0
CALSCALE:GREGORIAN
BEGIN:VEVENT
UID:c53e870ce5d7ff7a9a7cc5ca6b40fafc
DTSTAMP:20260420T105925Z
SUMMARY:Open de Golf La commanderie
DESCRIPTION:
URL:https://macon.rotary1750.org/en/agenda/show/21022
DTSTART;TZID=Europe/Zurich:20210905T080000
DTEND;TZID=Europe/Zurich:20210905T190000
LOCATION:Golf La Commanderie
CATEGORIES:Rotary
END:VEVENT
BEGIN:VTIMEZONE
TZID:Europe/Zurich
BEGIN:DAYLIGHT
DTSTART:20210905T080000
TZNAME:CEST
TZOFFSETTO:+0200
TZOFFSETFROM:+0200
END:DAYLIGHT
END:VTIMEZONE
END:VCALENDAR
